BEGIN:VCALENDAR
VERSION:2.0
PRODID:-//Brownstone Institute - ECPv6.15.20//NONSGML v1.0//EN
CALSCALE:GREGORIAN
METHOD:PUBLISH
X-WR-CALNAME:Brownstone Institute
X-ORIGINAL-URL:https://brownstone.org
X-WR-CALDESC:Events for Brownstone Institute
REFRESH-INTERVAL;VALUE=DURATION:PT1H
X-Robots-Tag:noindex
X-PUBLISHED-TTL:PT1H
BEGIN:VTIMEZONE
TZID:America/New_York
BEGIN:DAYLIGHT
TZOFFSETFROM:-0500
TZOFFSETTO:-0400
TZNAME:EDT
DTSTART:20250309T070000
END:DAYLIGHT
BEGIN:STANDARD
TZOFFSETFROM:-0400
TZOFFSETTO:-0500
TZNAME:EST
DTSTART:20251102T060000
END:STANDARD
BEGIN:DAYLIGHT
TZOFFSETFROM:-0500
TZOFFSETTO:-0400
TZNAME:EDT
DTSTART:20260308T070000
END:DAYLIGHT
BEGIN:STANDARD
TZOFFSETFROM:-0400
TZOFFSETTO:-0500
TZNAME:EST
DTSTART:20261101T060000
END:STANDARD
BEGIN:DAYLIGHT
TZOFFSETFROM:-0500
TZOFFSETTO:-0400
TZNAME:EDT
DTSTART:20270314T070000
END:DAYLIGHT
BEGIN:STANDARD
TZOFFSETFROM:-0400
TZOFFSETTO:-0500
TZNAME:EST
DTSTART:20271107T060000
END:STANDARD
END:VTIMEZONE
BEGIN:VEVENT
DTSTART;TZID=America/New_York:20260422T180000
DTEND;TZID=America/New_York:20260422T210000
DTSTAMP:20260425T224340
CREATED:20260401T144827Z
LAST-MODIFIED:20260419T204153Z
UID:10000375-1776880800-1776891600@brownstone.org
SUMMARY:Brownstone Austin Supper Club April 22\, 2026:  Jenna McCarthy
DESCRIPTION:Casa Garcia’s\, 1901 W William Cannon\, Austin TX 78745  \n6:00pm – 9:00pm\nAustin\, Texas\n$55 per person for appetizer\, dinner\, speaker \nPlease join us for an evening of laugh-out-loud conversation and “I feel better already” community with humorist and freedom-fighter Jenna McCarthy. While Jenna has a long and accomplished resume\, she’s probably best known for being constantly confused with that other anti-vaxxer whose name sounds strikingly similar to her own. (Two different people. Just so we’re clear.)  \n  \nAbout Jenna \nJenna McCarthy is an internationally published writer\, corporate speaker\, screenwriter\, two-time TED presenter\, former radio personality\, and the author of more than twenty books including The War on Ivermectin and The War on Chlorine Dioxide\, both with Dr. Pierre Kory. Her writing has appeared in more than sixty magazines (remember those?)\, on dozens of websites\, and in several anthologies including the popular Chicken Soup series. Today\, she pens the popular Substack Jenna’s Side—where she has many\, many opinions—and writes a monthly column for the Independent Medical Alliance (formerly FLCCC). \n  \nAbout the Talk \nIn this fun and lively chat\, Jenna will share her evolution from “sit-down comedian” roasting marriage and modern life to snarky\, no-nonsense voice for a growing army of dissidents battling censorship\, exile\, propaganda\, government corruption\, and the beast that is Big Pharma (*not a sentence she ever thought she’d hear herself write or say). She’ll happily answer questions about her books\, suppressed medical treatments\, “doing your own research\,” whatever fresh nonsense dropped this week\, and how to keep your sense of humor intact when the world looks like a scene straight out of Idiocracy. \n  \nVenue\, Location & Parking\nCasa Garcia’s is at the intersection of W William Cannon and Menchaca.  There is a large parking lot.   We will be in the ‘Party Room’\, which is to the left of the reception / hostess area.   You are welcome to come before 6pm and gather in the bar.  \n  \nRegistration\n$55 per person.  Space is limited so be sure to secure your seat early.  For more information contact Cyndi at cyndi@flourishholisticwellness.com.   Please include “Austin Supper Club” in the subject line.
URL:https://brownstone.org/event/brownstone-austin-supper-club-april-22-2026-jenna-mccarthy/
LOCATION:Casa Garcia’s\, 1901 W William Cannon\, Austin\, TX\, 78745\, United States
ATTACH;FMTTYPE=image/jpeg:https://brownstone.org/wp-content/uploads/2026/03/brownstone-austin-supper-club2.jpg
ORGANIZER;CN="Brownstone Institute":MAILTO:contact@brownstone.org
GEO:30.2021058;-97.8063742
X-APPLE-STRUCTURED-LOCATION;VALUE=URI;X-ADDRESS=Casa Garcia’s 1901 W William Cannon Austin TX 78745 United States;X-APPLE-RADIUS=500;X-TITLE=1901 W William Cannon:geo:-97.8063742,30.2021058
END:VEVENT
END:VCALENDAR